BEGIN:VCALENDAR
VERSION:2.0
PRODID:-//Lynn Wyatt Square - ECPv6.15.20//NONSGML v1.0//EN
CALSCALE:GREGORIAN
METHOD:PUBLISH
X-WR-CALNAME:Lynn Wyatt Square
X-ORIGINAL-URL:https://lynnwyattsquare.com
X-WR-CALDESC:Events for Lynn Wyatt Square
REFRESH-INTERVAL;VALUE=DURATION:PT1H
X-Robots-Tag:noindex
X-PUBLISHED-TTL:PT1H
BEGIN:VTIMEZONE
TZID:America/Chicago
BEGIN:DAYLIGHT
TZOFFSETFROM:-0600
TZOFFSETTO:-0500
TZNAME:CDT
DTSTART:20230312T080000
END:DAYLIGHT
BEGIN:STANDARD
TZOFFSETFROM:-0500
TZOFFSETTO:-0600
TZNAME:CST
DTSTART:20231105T070000
END:STANDARD
BEGIN:DAYLIGHT
TZOFFSETFROM:-0600
TZOFFSETTO:-0500
TZNAME:CDT
DTSTART:20240310T080000
END:DAYLIGHT
BEGIN:STANDARD
TZOFFSETFROM:-0500
TZOFFSETTO:-0600
TZNAME:CST
DTSTART:20241103T070000
END:STANDARD
BEGIN:DAYLIGHT
TZOFFSETFROM:-0600
TZOFFSETTO:-0500
TZNAME:CDT
DTSTART:20250309T080000
END:DAYLIGHT
BEGIN:STANDARD
TZOFFSETFROM:-0500
TZOFFSETTO:-0600
TZNAME:CST
DTSTART:20251102T070000
END:STANDARD
BEGIN:DAYLIGHT
TZOFFSETFROM:-0600
TZOFFSETTO:-0500
TZNAME:CDT
DTSTART:20260308T080000
END:DAYLIGHT
BEGIN:STANDARD
TZOFFSETFROM:-0500
TZOFFSETTO:-0600
TZNAME:CST
DTSTART:20261101T070000
END:STANDARD
END:VTIMEZONE
BEGIN:VEVENT
DTSTART;VALUE=DATE:20241120
DTEND;VALUE=DATE:20250103
DTSTAMP:20260425T171703
CREATED:20241113T232737Z
LAST-MODIFIED:20241113T233340Z
UID:1224-1732060800-1735862399@lynnwyattsquare.com
SUMMARY:Jingle Town
DESCRIPTION:The park will be transformed into Jingle Town with several interactive installations produced by LeMonde Studio. You’ll see life-size picture frames for photo opportunities to capture memorable holiday photos and interactive musical Christmas Trees along with Santa’s reindeer! \nFrom November 23 to December 21\, you can enjoy live music every Saturday. \nThis installation is part of City Lights Downtown Holiday Magic\, presented by Shell Energy.
URL:https://lynnwyattsquare.com/event/jingle-town-2024/
ATTACH;FMTTYPE=image/jpeg:https://lynnwyattsquare.com/wp-content/uploads/2024/11/event-placeholder.jpg
END:VEVENT
BEGIN:VEVENT
DTSTART;TZID=America/Chicago:20241207T160000
DTEND;TZID=America/Chicago:20241207T180000
DTSTAMP:20260425T171703
CREATED:20241113T230725Z
LAST-MODIFIED:20241120T203640Z
UID:1216-1733587200-1733594400@lynnwyattsquare.com
SUMMARY:Saturdays in the Square
DESCRIPTION:Ermelinda Cuellar Jazz Trio\nJazz- and Latin music-vocalist Ermelinda Cuellar is known to Houston audiences for her beautiful vocal quality and sophisticated rhythmic feel. Her self released album What a Difference a Day Made ranked as number eight on The Roots Music Report top Latin Jazz Album chart of the year 2022. Born to Peruvian parents in Texas\, Cuellar has been recognized by music critics for her precise intonation\, inventive improvisations\, and passionate story-telling in both English and Spanish. She works with some of the finest Texan instrumentalists including Andre Hayward\, Paul English\, and Bob Henshen and in group formats ranging from duo to septet. Cuellar’s 2022 septet album\, What A Difference A Day Made\, hit the top 3 spot on the Roots Music Report Latin Jazz Chart and received airplay from many JazzWeek-radio programs. Her material ranges from classic jazz standards\, bossa nova favorites\, Mexican/Latin/South American songs\, originals\, and even the occasional pop song. \nActivity: Santa Hat w/ Santa Glasses Giveaway
URL:https://lynnwyattsquare.com/event/saturdays-in-the-square-dec7/
CATEGORIES:Entertainment
ATTACH;FMTTYPE=image/jpeg:https://lynnwyattsquare.com/wp-content/uploads/2024/11/ermelinda-cuellar_2024.jpg
END:VEVENT
END:VCALENDAR