BEGIN:VCALENDAR
VERSION:2.0
PRODID:-//Lynn Wyatt Square - ECPv6.15.20//NONSGML v1.0//EN
CALSCALE:GREGORIAN
METHOD:PUBLISH
X-WR-CALNAME:Lynn Wyatt Square
X-ORIGINAL-URL:https://lynnwyattsquare.com
X-WR-CALDESC:Events for Lynn Wyatt Square
REFRESH-INTERVAL;VALUE=DURATION:PT1H
X-Robots-Tag:noindex
X-PUBLISHED-TTL:PT1H
BEGIN:VTIMEZONE
TZID:America/Chicago
BEGIN:DAYLIGHT
TZOFFSETFROM:-0600
TZOFFSETTO:-0500
TZNAME:CDT
DTSTART:20220313T080000
END:DAYLIGHT
BEGIN:STANDARD
TZOFFSETFROM:-0500
TZOFFSETTO:-0600
TZNAME:CST
DTSTART:20221106T070000
END:STANDARD
BEGIN:DAYLIGHT
TZOFFSETFROM:-0600
TZOFFSETTO:-0500
TZNAME:CDT
DTSTART:20230312T080000
END:DAYLIGHT
BEGIN:STANDARD
TZOFFSETFROM:-0500
TZOFFSETTO:-0600
TZNAME:CST
DTSTART:20231105T070000
END:STANDARD
BEGIN:DAYLIGHT
TZOFFSETFROM:-0600
TZOFFSETTO:-0500
TZNAME:CDT
DTSTART:20240310T080000
END:DAYLIGHT
BEGIN:STANDARD
TZOFFSETFROM:-0500
TZOFFSETTO:-0600
TZNAME:CST
DTSTART:20241103T070000
END:STANDARD
END:VTIMEZONE
BEGIN:VEVENT
DTSTART;TZID=America/Chicago:20231013T170000
DTEND;TZID=America/Chicago:20231013T190000
DTSTAMP:20260425T052709
CREATED:20230913T213754Z
LAST-MODIFIED:20231009T191644Z
UID:658-1697216400-1697223600@lynnwyattsquare.com
SUMMARY:An Evening with Ronna Mansfield & Friends
DESCRIPTION:Ronna Mansfield\nCome check out Ronna Mansfield and friends bringing you their favorite Broadway songs! Ronna is a cast member of Houston’s own The Broad’s Way and co-host of The Broads of The Broad’s Way shows!
URL:https://lynnwyattsquare.com/event/10132023/
CATEGORIES:Entertainment,Performance Art
ATTACH;FMTTYPE=image/webp:https://lynnwyattsquare.com/wp-content/uploads/2023/09/artist_Ronna-Mansfield.webp
END:VEVENT
BEGIN:VEVENT
DTSTART;TZID=America/Chicago:20231012T110000
DTEND;TZID=America/Chicago:20231012T140000
DTSTAMP:20260425T052709
CREATED:20230913T213652Z
LAST-MODIFIED:20230920T161416Z
UID:656-1697108400-1697119200@lynnwyattsquare.com
SUMMARY:FARE in the Square
DESCRIPTION:Jawad\nSmooth\, mellow\, relaxing yet energetic describes the music of Jawad.  This versatile guitarist/vocalist/songwriter serves up a unique mixture of folk\, blues\, pop\, R&B\, and jazz guaranteed to eventually satisfy the taste of even the most critical listener. \nDetails:\n\n2 Food Trucks\nLive Entertainment\nOutdoor Games – Cornhole\, etc.
URL:https://lynnwyattsquare.com/event/10122023/
CATEGORIES:Art,Entertainment,Food,Recreation
ATTACH;FMTTYPE=image/webp:https://lynnwyattsquare.com/wp-content/uploads/2023/09/artist_Jawad.webp
END:VEVENT
BEGIN:VEVENT
DTSTART;TZID=America/Chicago:20231011T110000
DTEND;TZID=America/Chicago:20231011T140000
DTSTAMP:20260425T052709
CREATED:20230913T213542Z
LAST-MODIFIED:20231118T195709Z
UID:654-1697022000-1697032800@lynnwyattsquare.com
SUMMARY:FARE in the Square
DESCRIPTION:Danielle Reich\nDepending on the night of the week\, you may hear vocalist Danielle Reich performing French chanson\, jazz manouche\, Great American Songbook standards\, New Orleans Hot Club\, Western Swing\, jazz-interpreted pop\, or even avant-garde compositions. \nDetails:\n\n2 Food Trucks\nLive Entertainment\nOutdoor Games – Cornhole\, etc.
URL:https://lynnwyattsquare.com/event/10112023/
CATEGORIES:Art,Entertainment,Food,Recreation
ATTACH;FMTTYPE=image/webp:https://lynnwyattsquare.com/wp-content/uploads/2023/09/artist_Danielle-Reich.webp
END:VEVENT
BEGIN:VEVENT
DTSTART;TZID=America/Chicago:20231010T110000
DTEND;TZID=America/Chicago:20231010T140000
DTSTAMP:20260425T052709
CREATED:20230913T213437Z
LAST-MODIFIED:20230920T161359Z
UID:652-1696935600-1696946400@lynnwyattsquare.com
SUMMARY:FARE in the Square
DESCRIPTION:The Mighty Orq\nThe Mighty Orq\, a born-and-raised Houstonian\, stands out as one of Texas’s most extraordinary and industrious musical talents. His music\, a fusion of delta blues\, bluegrass\, folk\, roots\, and psychedelic rock\, encapsulates the diverse and distinctive essence of his hometown. In a nutshell\, it’s best described as Gulf Coast Roots Music.  \nDetails:\n\n2 Food Trucks\nLive Entertainment\nOutdoor Games – Cornhole\, etc.
URL:https://lynnwyattsquare.com/event/10102023/
CATEGORIES:Art,Entertainment,Food,Recreation
ATTACH;FMTTYPE=image/webp:https://lynnwyattsquare.com/wp-content/uploads/2023/09/artist_Mighty-Orq.webp
END:VEVENT
BEGIN:VEVENT
DTSTART;TZID=America/Chicago:20231008T170000
DTEND;TZID=America/Chicago:20231008T190000
DTSTAMP:20260425T052709
CREATED:20230913T213253Z
LAST-MODIFIED:20230929T184757Z
UID:650-1696784400-1696791600@lynnwyattsquare.com
SUMMARY:La Tribu Cubana
DESCRIPTION:Thriving Houston percussionist Charlie Perez brings La Tribu Cubana to Lynn Wyatt Square. A long time local favorite\, the band is described as little Buena Vista\, a little Timba and a lot of fun!
URL:https://lynnwyattsquare.com/event/10082023/
CATEGORIES:Entertainment,Performance Art
ATTACH;FMTTYPE=image/jpeg:https://lynnwyattsquare.com/wp-content/uploads/2023/09/IMG_5628.jpeg
END:VEVENT
BEGIN:VEVENT
DTSTART;TZID=America/Chicago:20231007T170000
DTEND;TZID=America/Chicago:20231007T190000
DTSTAMP:20260425T052709
CREATED:20230913T213137Z
LAST-MODIFIED:20230929T184354Z
UID:648-1696698000-1696705200@lynnwyattsquare.com
SUMMARY:Mateo Orozco
DESCRIPTION:Mateo Orozco is a Colombian artist whose unique blend of Latin American rhythms and jazz improvisation is taking Houston’s local scene by storm. Orozco delivers innovative music and unforgettable live performances.
URL:https://lynnwyattsquare.com/event/10072023/
CATEGORIES:Entertainment,Performance Art
ATTACH;FMTTYPE=image/png:https://lynnwyattsquare.com/wp-content/uploads/2023/09/IMG_5626.png
END:VEVENT
BEGIN:VEVENT
DTSTART;TZID=America/Chicago:20231006T170000
DTEND;TZID=America/Chicago:20231006T190000
DTSTAMP:20260425T052709
CREATED:20230913T212905Z
LAST-MODIFIED:20230920T181737Z
UID:645-1696611600-1696618800@lynnwyattsquare.com
SUMMARY:Ermelinda Cuellar Trio
DESCRIPTION:Ermelinda Cuellar Trio\nErmelinda Cuellar\, a vocalist skilled in both Jazz and Latin music\, has gained recognition among Houston’s music enthusiasts for her exquisite vocal timbre and her mastery of intricate rhythms.
URL:https://lynnwyattsquare.com/event/10062023/
CATEGORIES:Entertainment,Performance Art
ATTACH;FMTTYPE=image/webp:https://lynnwyattsquare.com/wp-content/uploads/2023/09/artist_Ermelinda-Cuellar-Trio.webp
END:VEVENT
BEGIN:VEVENT
DTSTART;TZID=America/Chicago:20231005T110000
DTEND;TZID=America/Chicago:20231005T140000
DTSTAMP:20260425T052709
CREATED:20230913T212801Z
LAST-MODIFIED:20230920T161351Z
UID:643-1696503600-1696514400@lynnwyattsquare.com
SUMMARY:FARE in the Square
DESCRIPTION:Tom Lynch\nLocal Houstonian and singer/song-writer Tom Lynch will lead the jam session during lunch at LWS.  \nDetails:\n\n2 Food Trucks\nLive Entertainment\nOutdoor Games – Cornhole\, etc.
URL:https://lynnwyattsquare.com/event/20052023/
CATEGORIES:Art,Entertainment,Food,Recreation
ATTACH;FMTTYPE=image/webp:https://lynnwyattsquare.com/wp-content/uploads/2023/09/artist_Tom-Lynch.webp
END:VEVENT
BEGIN:VEVENT
DTSTART;TZID=America/Chicago:20231004T110000
DTEND;TZID=America/Chicago:20231004T140000
DTSTAMP:20260425T052709
CREATED:20230913T212556Z
LAST-MODIFIED:20230920T184031Z
UID:639-1696417200-1696428000@lynnwyattsquare.com
SUMMARY:FARE in the Square
DESCRIPTION:Taylor Marberry\nTaylor Marberry is a Houston native performing a myriad of songs from artists including The Beatles\, Led Zeppelin\, Amy Winehouse\, The Eagles and many more. Her appeal is universal\, generating an interactive fun environment for all ages!  \nDetails:\n\n2 Food Trucks\nLive Entertainment\nOutdoor Games – Cornhole\, etc.
URL:https://lynnwyattsquare.com/event/10042023/
CATEGORIES:Art,Entertainment,Food,Recreation
ATTACH;FMTTYPE=image/webp:https://lynnwyattsquare.com/wp-content/uploads/2023/09/Taylor-Marberry.webp
END:VEVENT
BEGIN:VEVENT
DTSTART;TZID=America/Chicago:20231003T110000
DTEND;TZID=America/Chicago:20231003T140000
DTSTAMP:20260425T052709
CREATED:20230913T211431Z
LAST-MODIFIED:20230920T161323Z
UID:636-1696330800-1696341600@lynnwyattsquare.com
SUMMARY:FARE in the Square
DESCRIPTION:Nick Gaitan\nMusician and songwriter Nick Gaitan is a Houston native whose Gulf Coast sound is a mixture of Swamp Pop\, Chicano Soul\, Tejas Roots\, Country\, and Blues. Gaitan will entertain the LWS lunch crowd with upright/electric bass. \nDetails:\n\n2 Food Trucks\nLive Entertainment\nOutdoor Games – Cornhole\, etc.
URL:https://lynnwyattsquare.com/event/10032023/
CATEGORIES:Art,Entertainment,Food,Recreation
ATTACH;FMTTYPE=image/webp:https://lynnwyattsquare.com/wp-content/uploads/2023/09/artist_Nick-Gaitan.webp
END:VEVENT
BEGIN:VEVENT
DTSTART;TZID=America/Chicago:20231001T170000
DTEND;TZID=America/Chicago:20231001T190000
DTSTAMP:20260425T052709
CREATED:20230929T183428Z
LAST-MODIFIED:20230929T183831Z
UID:808-1696179600-1696186800@lynnwyattsquare.com
SUMMARY:Verónica Rosales
DESCRIPTION:Verónica Rosales is a Texan-Mexican vocalist and broadcaster and participated in the national reality show “LaReina de la Canción” on the Univisión network. As a signed recording artist for International Universal Music Group\, she has shared the stage with multiple international artists such as Shakira\, Juanes\, Becky G.\, Banda El Recodo and Joss Favela.
URL:https://lynnwyattsquare.com/event/live-2/
CATEGORIES:Entertainment,Performance Art
ATTACH;FMTTYPE=image/jpeg:https://lynnwyattsquare.com/wp-content/uploads/2023/09/IMG_5624.jpeg
END:VEVENT
BEGIN:VEVENT
DTSTART;TZID=America/Chicago:20230930T170000
DTEND;TZID=America/Chicago:20230930T190000
DTSTAMP:20260425T052709
CREATED:20230913T210938Z
LAST-MODIFIED:20230915T201041Z
UID:632-1696093200-1696100400@lynnwyattsquare.com
SUMMARY:Scott Graham
DESCRIPTION:Scott Graham\nScott Graham is a Houston local and award-winning pianist ready to give visitors a stunning performance.
URL:https://lynnwyattsquare.com/event/09302023/
CATEGORIES:Entertainment,Performance Art
ATTACH;FMTTYPE=image/webp:https://lynnwyattsquare.com/wp-content/uploads/2023/09/artist_Scott-Graham.webp
END:VEVENT
BEGIN:VEVENT
DTSTART;TZID=America/Chicago:20230929T170000
DTEND;TZID=America/Chicago:20230929T190000
DTSTAMP:20260425T052709
CREATED:20230913T205346Z
LAST-MODIFIED:20230913T211048Z
UID:628-1696006800-1696014000@lynnwyattsquare.com
SUMMARY:Hope Cowan
DESCRIPTION:Hope Cowan\nActive as both an orchestral and chamber musician \,she is principal harpist with the Symphony of Southeast Texas and is a founding member of both the Canticle Duo and Lynx Trio. Ms. Cowan enjoys performing cross-genre programs for audiences all over the Houston area.
URL:https://lynnwyattsquare.com/event/09292023/
CATEGORIES:Entertainment,Performance Art
ATTACH;FMTTYPE=image/webp:https://lynnwyattsquare.com/wp-content/uploads/2023/09/Hope-Cowan-e1694639090604.webp
END:VEVENT
BEGIN:VEVENT
DTSTART;TZID=America/Chicago:20230924T130000
DTEND;TZID=America/Chicago:20230924T190000
DTSTAMP:20260425T052709
CREATED:20230808T151242Z
LAST-MODIFIED:20230914T181923Z
UID:505-1695560400-1695582000@lynnwyattsquare.com
SUMMARY:"Bees" by Polygot Theatre
DESCRIPTION:“Bees” is an enchanting and interactive masterpiece where children are invited into a realm of togetherness\, exchange\, awe\, and creativity. Step into a vibrant\, bustling hive of activity\, where three human-sized Bees are diligently engaged in constructing a community\, alongside youngsters who seamlessly morph into bees during play. Children find themselves completely immersed in the symphony of sounds\, forms\, and fragrances that define the bee domain – from the familiar hum to the geometry of honeycomb dwellings. “Bees” employs rituals\, non-verbal communication\, and the clandestine realm of bee-like motion\, presenting various entry points for children to engage and participate.  \nSun\, Sept 24\, SHOW TIMES: 1pm\, 5pm & 7pm
URL:https://lynnwyattsquare.com/event/polygots-sunday/
CATEGORIES:Entertainment
ATTACH;FMTTYPE=image/webp:https://lynnwyattsquare.com/wp-content/uploads/2023/08/LWS_Event_PolyglotTheatreBees1-copy.webp
END:VEVENT
BEGIN:VEVENT
DTSTART;TZID=America/Chicago:20230923T130000
DTEND;TZID=America/Chicago:20230923T190000
DTSTAMP:20260425T052709
CREATED:20230808T145321Z
LAST-MODIFIED:20230914T181856Z
UID:500-1695474000-1695495600@lynnwyattsquare.com
SUMMARY:"Bees" by Polygot Theatre
DESCRIPTION:“Bees” is an enchanting and interactive masterpiece where children are invited into a realm of togetherness\, exchange\, awe\, and creativity. Step into a vibrant\, bustling hive of activity\, where three human-sized Bees are diligently engaged in constructing a community\, alongside youngsters who seamlessly morph into bees during play. Children find themselves completely immersed in the symphony of sounds\, forms\, and fragrances that define the bee domain – from the familiar hum to the geometry of honeycomb dwellings. “Bees” employs rituals\, non-verbal communication\, and the clandestine realm of bee-like motion\, presenting various entry points for children to engage and participate.  \nSat\, Sept 23\, SHOW TIMES: 1pm\, 5pm & 7pm
URL:https://lynnwyattsquare.com/event/polygots-saturday/
CATEGORIES:Entertainment
ATTACH;FMTTYPE=image/webp:https://lynnwyattsquare.com/wp-content/uploads/2023/08/LWS_Event_PolyglotTheatreBees1-copy.webp
END:VEVENT
BEGIN:VEVENT
DTSTART;TZID=America/Chicago:20230922T170000
DTEND;TZID=America/Chicago:20230922T190000
DTSTAMP:20260425T052709
CREATED:20230808T144841Z
LAST-MODIFIED:20230914T181806Z
UID:496-1695402000-1695409200@lynnwyattsquare.com
SUMMARY:"Bees" by Polygot Theatre
DESCRIPTION:“Bees” is an enchanting and interactive masterpiece where children are invited into a realm of togetherness\, exchange\, awe\, and creativity. Step into a vibrant\, bustling hive of activity\, where three human-sized Bees are diligently engaged in constructing a community\, alongside youngsters who seamlessly morph into bees during play. Children find themselves completely immersed in the symphony of sounds\, forms\, and fragrances that define the bee domain – from the familiar hum to the geometry of honeycomb dwellings. “Bees” employs rituals\, non-verbal communication\, and the clandestine realm of bee-like motion\, presenting various entry points for children to engage and participate. \nSHOW TIMES: 5pm & 7pm
URL:https://lynnwyattsquare.com/event/polygots-friday/
CATEGORIES:Entertainment
ATTACH;FMTTYPE=image/webp:https://lynnwyattsquare.com/wp-content/uploads/2023/08/LWS_Event_PolyglotTheatreBees1-copy.webp
END:VEVENT
END:VCALENDAR