BEGIN:VCALENDAR
VERSION:2.0
PRODID:-//Lynn Wyatt Square - ECPv6.15.20//NONSGML v1.0//EN
CALSCALE:GREGORIAN
METHOD:PUBLISH
X-ORIGINAL-URL:https://lynnwyattsquare.com
X-WR-CALDESC:Events for Lynn Wyatt Square
REFRESH-INTERVAL;VALUE=DURATION:PT1H
X-Robots-Tag:noindex
X-PUBLISHED-TTL:PT1H
BEGIN:VTIMEZONE
TZID:America/Chicago
BEGIN:DAYLIGHT
TZOFFSETFROM:-0600
TZOFFSETTO:-0500
TZNAME:CDT
DTSTART:20240310T080000
END:DAYLIGHT
BEGIN:STANDARD
TZOFFSETFROM:-0500
TZOFFSETTO:-0600
TZNAME:CST
DTSTART:20241103T070000
END:STANDARD
BEGIN:DAYLIGHT
TZOFFSETFROM:-0600
TZOFFSETTO:-0500
TZNAME:CDT
DTSTART:20250309T080000
END:DAYLIGHT
BEGIN:STANDARD
TZOFFSETFROM:-0500
TZOFFSETTO:-0600
TZNAME:CST
DTSTART:20251102T070000
END:STANDARD
BEGIN:DAYLIGHT
TZOFFSETFROM:-0600
TZOFFSETTO:-0500
TZNAME:CDT
DTSTART:20260308T080000
END:DAYLIGHT
BEGIN:STANDARD
TZOFFSETFROM:-0500
TZOFFSETTO:-0600
TZNAME:CST
DTSTART:20261101T070000
END:STANDARD
END:VTIMEZONE
BEGIN:VEVENT
DTSTART;TZID=America/Chicago:20250310T120000
DTEND;TZID=America/Chicago:20250310T180000
DTSTAMP:20260425T104703
CREATED:20250226T215225Z
LAST-MODIFIED:20250226T215514Z
UID:1262-1741608000-1741629600@lynnwyattsquare.com
SUMMARY:Theater District Open House
DESCRIPTION:The Theater District Open House\, made possible by ExxonMobil\, is back after a pause since 2019\, offering a free\, family-friendly celebration of our city’s rich cultural tapestry. Join us for an afternoon of performances\, interactive experiences\, and community connection\, presented by the talented artists and venues that call the Theater District home. Lynn Wyatt Square is thrilled to be a part of this cherished tradition. \nView the full schedule here. \nEvents at Lynn Wyatt Square below. \n\n12:00-12:30: Welcome Remarks and Houston Symphony Brass Fanfare\n12:30-1:00: Theatre Under The Stars Musicals in Motion\n1:00-1:45: Houston Grand Opera presents an Opera to Go! performance of Mo Willem’s Bite-Size Operas!\n2:45-3:15: Houston Grand Opera presents Storybook Opera \n3:30-4:30: Performing Arts Houston Dance Workshop with YUNGCHRIS
URL:https://lynnwyattsquare.com/event/theater-district-open-house2025/
ATTACH;FMTTYPE=image/jpeg:https://lynnwyattsquare.com/wp-content/uploads/2024/11/event-placeholder.jpg
END:VEVENT
END:VCALENDAR